BEGIN:VCALENDAR
VERSION:2.0
PRODID:-//Ecole Professionnelle des Arts de la Scène - ECPv6.15.20//NONSGML v1.0//EN
CALSCALE:GREGORIAN
METHOD:PUBLISH
X-WR-CALNAME:Ecole Professionnelle des Arts de la Scène
X-ORIGINAL-URL:https://epas.pro
X-WR-CALDESC:Évènements pour Ecole Professionnelle des Arts de la Scène
REFRESH-INTERVAL;VALUE=DURATION:PT1H
X-Robots-Tag:noindex
X-PUBLISHED-TTL:PT1H
BEGIN:VTIMEZONE
TZID:Europe/Paris
BEGIN:DAYLIGHT
TZOFFSETFROM:+0100
TZOFFSETTO:+0200
TZNAME:CEST
DTSTART:20220327T010000
END:DAYLIGHT
BEGIN:STANDARD
TZOFFSETFROM:+0200
TZOFFSETTO:+0100
TZNAME:CET
DTSTART:20221030T010000
END:STANDARD
BEGIN:DAYLIGHT
TZOFFSETFROM:+0100
TZOFFSETTO:+0200
TZNAME:CEST
DTSTART:20230326T010000
END:DAYLIGHT
BEGIN:STANDARD
TZOFFSETFROM:+0200
TZOFFSETTO:+0100
TZNAME:CET
DTSTART:20231029T010000
END:STANDARD
BEGIN:DAYLIGHT
TZOFFSETFROM:+0100
TZOFFSETTO:+0200
TZNAME:CEST
DTSTART:20240331T010000
END:DAYLIGHT
BEGIN:STANDARD
TZOFFSETFROM:+0200
TZOFFSETTO:+0100
TZNAME:CET
DTSTART:20241027T010000
END:STANDARD
END:VTIMEZONE
BEGIN:VEVENT
DTSTART;TZID=Europe/Paris:20230204T100000
DTEND;TZID=Europe/Paris:20230204T120000
DTSTAMP:20260423T180534
CREATED:20221013T144743Z
LAST-MODIFIED:20230117T124754Z
UID:8560-1675504800-1675512000@epas.pro
SUMMARY:Portes ouvertes - Samedi 4 février 2023
DESCRIPTION:S’inscrire en ligne\n\n\n\n\n\n\n\n\n\n\nVous avez entre 15 et 29 ans ? Vous avez toujours voulu être un artiste ?  \n\n\n\nBonne nouvelle ! L’équipe de l’Ecole Professionnelle des Arts de la Scène est heureuse de vous accueillir dans les locaux du Centre Omnisport de Mâcon pour les portes ouvertes de l’EPAS 2023Rendez-vous le samedi 4 février 2023 à 10h au 389 avenue du Maréchal de Lattre de Tassigny\, 71000 Mâcon. \n\n\n\nProgramme Portes Ouvertes EPAS 2023 :\n\n\n\n\n10h – Accueil des participants\n\n\n\n10h15 – Présentation de la formation Pro et de la classe préparatoire EPAS Junior par la Directrice Stéphanie Freyer\n\n\n\n11h – Rencontre avec l’équipe pédagogique et échanges avec les artistes étudiants de l’EPAS\n\n\n\n11h30 – Visite des locaux du Centre Omnisport de Mâcon (Lieu de formation)\n\n\n\n\nGratuit. Inscription obligatoire au préalable \n\n\n\nLe même soir\, nous vous offrons la possibilité d'assister à une représentation de la Créa des étudiants\, qui aura lieu à la MJC Héritan de Mâcon à 20h30.\n\n\n\n\n\n\n\nExplorer la Formation Pro\n\n\n\n\n\n\n\nExplorer l’EPAS Junior\n\n\n\n\n\n\n\n🔥 Les participants à la Journée Portes Ouvertes de l’EPAS peuvent s’ils le souhaitent candidater à l’EPAS le même jour de 13h à 18h.Le processus d’admission comprend un stage de préparation de 3h (1h de chant\, 1h de danse\, 1h de théâtre) et une phase d’audition pour espérer intégrer la formation Pro ou l’EPAS Junior à la rentrée 2023 !  \n\n\n\n\nS’inscrire en ligne\n\n\n\n\nVous pouvez également nous contacter au 06 13 09 06 59 pour plus de renseignements.
URL:https://epas.pro/evenement/portes-ouvertes-samedi-4-fevrier-2023/
LOCATION:Centre Omnisport de Mâcon (COM)\, 389 Avenue Maréchal de Lattre de Tassigny\, Mâcon\, 71000
CATEGORIES:Portes ouvertes
ATTACH;FMTTYPE=image/png:https://epas.pro/wp-content/uploads/2022/10/Capture-decran-2022-10-13-a-16.53.20.png
ORGANIZER;CN="Ecole Professionnelle des Arts de la Sc%C3%A8ne":MAILTO:contact@epas.pro
END:VEVENT
BEGIN:VEVENT
DTSTART;TZID=Europe/Paris:20230204T130000
DTEND;TZID=Europe/Paris:20230204T180000
DTSTAMP:20260423T180534
CREATED:20221024T101711Z
LAST-MODIFIED:20221101T065945Z
UID:8619-1675515600-1675533600@epas.pro
SUMMARY:Session d'admission #1 (1/2 journée) - Février 2023
DESCRIPTION:L’appel à candidature de l’EPAS 2023 est ouvert !Vous souhaitez intégrer la Formation Pro à la Rentrée 2023 ? Candidatez à l’EPAS et accédez à une formation de qualité en chant\, danse et théâtre hors de Paris ! \n\n\n\nNous vous attendons le samedi 4 février 2023 de 13h à 18h au 389 avenue du Maréchal de Lattre de Tassigny\, 71000 Mâcon pour cette première session d’admission à l’EPAS.(D’autres sessions d’admission seront organisées au cours de l’année pour celles et ceux qui ne seraient pas disponibles. Restez connectés !) \n\n\n\nAssurez-vous simplement de valider l’ensemble des prérequis demandés avant de vous inscrire. Cliquez ici pour connaître toutes les modalités d’admission à l’EPAS. \n\n\n\n— \n\n\n\nDéroulé de la session d’admission #1\n\n\n\n★ 13h -> 16h | Stage préparatoire\n\n\n\n3h de cours de danse\, chant et théâtre à raison d’une heure de cours collectifs dans chaque discipline\n\n\n\n13h : Chant avec Isabelle Gorsse14h : Théâtre avec Julien Bourières15h : Danse avec Romain Quigrat\n\n\n\n★ 16h30 | Auditions d’entrée\n\n\n\n⚠️ Nouveauté 2023 : vous devez désormais présenter 2 prestations* en solo (chanson\, chorégraphie et/ou monologue de théâtre) de 3 à 5 min chacune dans les 2 disciplines de votre choix Entretien motivationnel avec le jury composé des formateurs de l’EPAS\n\n\n\n* Nous vous conseillons de choisir en Prestation 1 la discipline dans laquelle vous avez un meilleur niveau. La Prestation 2 ne sera pas évaluée mais donnera une idée de votre potentiel au jury.  \n\n\n\nTarifs\n\n\n\n45 € + 10 € d’adhésion annuelle obligatoire à l’EPAS \n\n\n\n(L’EPAS accepte l’offre Pass Culture pour les jeunes de 18 ans et les chèques ANCV.) \n\n\n\nEn cas de désistement\, aucun remboursement n’est prévu\, sauf sur présentation d’un certificat médical. \n\n\n\n\nS’inscrire en ligne\n\n\n\n\n \n\n\n\nVous pouvez également nous contacter au 06 13 09 06 59 pour plus de renseignements ou si vous souhaitez vous inscrire par courrier. \n\n\n\n— \n\n\n\n⚠️ Les candidats à l’EPAS peuvent s’ils le souhaitent participer à la journée Portes ouvertes de l’EPAS organisé le même jour de 10h à 12h. L’occasion de rencontrer les artistes-étudiants de l’EPAS et de découvrir la formation et l’Ecole autrement ! Cliquez ici pour en savoir plus.
URL:https://epas.pro/evenement/session-dadmission-1-1-2-journee-fevrier-2023/
LOCATION:Centre Omnisport de Mâcon (COM)\, 389 Avenue Maréchal de Lattre de Tassigny\, Mâcon\, 71000
CATEGORIES:Auditions,Portes ouvertes
ATTACH;FMTTYPE=image/png:https://epas.pro/wp-content/uploads/2022/10/1.png
ORGANIZER;CN="Ecole Professionnelle des Arts de la Sc%C3%A8ne":MAILTO:contact@epas.pro
END:VEVENT
END:VCALENDAR